BEGIN:VCALENDAR
VERSION:2.0
PRODID:-//Contratero//ES
CALSCALE:GREGORIAN
METHOD:PUBLISH
BEGIN:VEVENT
UID:01-2025 INFORMÁTICA@contratero.es
DTSTAMP:20260421T111018Z
DTSTART:20250228T235959
DTEND:20250301T005959
SUMMARY:Cierre: Mantenimiento y monitorización y soporte para el e
DESCRIPTION:Mantenimiento y monitorización y soporte para el entorno informático de la Fundación\\n\\nOrganismo: Dirección de la Fundación Comillas del Español y de la Cultura Hispánica\\n\\nVer en Contratero: https://contratero.es/contracts/01-2025 INFORMÁTICA
URL:https://contratero.es/contracts/01-2025 INFORMÁTICA
STATUS:CONFIRMED
BEGIN:VALARM
TRIGGER:-P1D
ACTION:DISPLAY
DESCRIPTION:Recordatorio: Mantenimiento y monitorización
END:VALARM
END:VEVENT
END:VCALENDAR